BEGIN:VCALENDAR
VERSION:2.0
PRODID:icalendar-ruby
CALSCALE:GREGORIAN
METHOD:PUBLISH
BEGIN:VTIMEZONE
TZID:Australia/Perth
BEGIN:STANDARD
DTSTART:20090329T020000
TZOFFSETFROM:+0900
TZOFFSETTO:+0800
TZNAME:AWST
END:STANDARD
END:VTIMEZONE
BEGIN:VEVENT
DTSTAMP:20260423T004547Z
UID:inspection_3010419
DTSTART;TZID=Australia/Perth:20260425T120000
DTEND;TZID=Australia/Perth:20260425T124500
CLASS:PUBLIC
CREATED:20260423T060410
DESCRIPTION: 
LAST-MODIFIED:20260423T060410
LOCATION:5 Mcalinden Street\, BRIDGETOWN WA 6255\, Australia
SUMMARY:5 Mcalinden Street\,  Inspection
URL;VALUE=URI:https://www.blackwoodvalleyrealestate.com/
END:VEVENT
END:VCALENDAR
